BEGIN:VCALENDAR
VERSION:2.0
PRODID:-//Paddle For Future
CALSCALE:GREGORIAN
METHOD:PUBLISH
X-WR-CALNAME:Paddle For Future
X-ORIGINAL-URL:https://paddleforfuture.com/product/summer-paddle-camp-6/
X-WR-CALDESC:summer paddle camp
BEGIN:VEVENT
DTSTART;TZID=Europe/London:20190512T000000
DTEND;TZID=Europe/London:20190512T000000
SUMMARY:summer paddle camp
DESCRIPTION:
URL:https://paddleforfuture.com/product/summer-paddle-camp-6/
LOCATION:
END:VEVENT
END:VCALENDAR
